BEGIN:VCALENDAR
VERSION:2.0
PRODID:-//ChamberMaster//Event Calendar 2.0//EN
METHOD:PUBLISH
X-PUBLISHED-TTL:P3D
REFRESH-INTERVAL:P3D
CALSCALE:GREGORIAN
BEGIN:VEVENT
DTSTART;VALUE=DATE:20240603
DTEND;VALUE=DATE:20240604
TRANSP:TRANSPARENT
X-MICROSOFT-CDO-ALLDAYEVENT:TRUE
SUMMARY:Farmers' Electric AYBF Par-Tee for a Purpose
DESCRIPTION:
X-ALT-DESC;FMTTYPE=text/html:
LOCATION:Green Hills Golf Course
UID:e.1368.6215
SEQUENCE:3
DTSTAMP:20260421T101041Z
URL:http://www.chillicothemo.com/events/details/farmers-electric-aybf-par-tee-for-a-purpose-6215
END:VEVENT

END:VCALENDAR
