BEGIN:VCALENDAR
VERSION:2.0
PRODID:-//ChamberMaster//Event Calendar 2.0//EN
METHOD:PUBLISH
X-PUBLISHED-TTL:P3D
REFRESH-INTERVAL:P3D
CALSCALE:GREGORIAN
BEGIN:VEVENT
DTSTART:20230928T230000Z
DTEND:20230929T000000Z
X-MICROSOFT-CDO-ALLDAYEVENT:FALSE
SUMMARY:The Writer's Circle
DESCRIPTION:September's Writer's Circle meeting will be Thursday the 28th\, at 6 PM in the Main Library's 2nd-floor Courtroom.
X-ALT-DESC;FMTTYPE=text/html:September&#39\;s Writer&#39\;s Circle meeting will be Thursday the 28th\, at 6 PM in the Main Library&#39\;s 2nd-floor Courtroom.
LOCATION:Livingston County Library 450 Locust St. Chillicothe\, MO 64601
UID:e.1368.6163
SEQUENCE:3
DTSTAMP:20260419T143802Z
URL:http://www.chillicothemo.com/events/details/the-writer-s-circle-09-28-2023-6163
END:VEVENT

END:VCALENDAR
