BEGIN:VCALENDAR
VERSION:2.0
PRODID:-//ChamberMaster//Event Calendar 2.0//EN
METHOD:PUBLISH
X-PUBLISHED-TTL:P3D
REFRESH-INTERVAL:P3D
CALSCALE:GREGORIAN
BEGIN:VEVENT
DTSTART:20211120T190000Z
DTEND:20211120T210000Z
X-MICROSOFT-CDO-ALLDAYEVENT:FALSE
SUMMARY:Visit With Santa
DESCRIPTION:We will have Santa at The Charmed Nook for kids to visit and take a photo! We will have a photographer with the option to purchase photos.
X-ALT-DESC;FMTTYPE=text/html:We will have Santa at The Charmed Nook for kids to visit and take a photo! We will have a photographer with the option to purchase photos.
LOCATION:The Charmed Nook
UID:e.1368.6005
SEQUENCE:3
DTSTAMP:20260424T101201Z
URL:http://www.chillicothemo.com/events/details/visit-with-santa-6005
END:VEVENT

END:VCALENDAR
